BEGIN:VCALENDAR
VERSION:2.0
PRODID:-//Hermandad de San Gonzalo - ECPv6.15.20//NONSGML v1.0//EN
CALSCALE:GREGORIAN
METHOD:PUBLISH
X-ORIGINAL-URL:https://www.hermandaddesangonzalo.es
X-WR-CALDESC:Eventos para Hermandad de San Gonzalo
REFRESH-INTERVAL;VALUE=DURATION:PT1H
X-Robots-Tag:noindex
X-PUBLISHED-TTL:PT1H
BEGIN:VTIMEZONE
TZID:Europe/Madrid
BEGIN:DAYLIGHT
TZOFFSETFROM:+0100
TZOFFSETTO:+0200
TZNAME:CEST
DTSTART:20180325T010000
END:DAYLIGHT
BEGIN:STANDARD
TZOFFSETFROM:+0200
TZOFFSETTO:+0100
TZNAME:CET
DTSTART:20181028T010000
END:STANDARD
BEGIN:DAYLIGHT
TZOFFSETFROM:+0100
TZOFFSETTO:+0200
TZNAME:CEST
DTSTART:20190331T010000
END:DAYLIGHT
BEGIN:STANDARD
TZOFFSETFROM:+0200
TZOFFSETTO:+0100
TZNAME:CET
DTSTART:20191027T010000
END:STANDARD
BEGIN:DAYLIGHT
TZOFFSETFROM:+0100
TZOFFSETTO:+0200
TZNAME:CEST
DTSTART:20200329T010000
END:DAYLIGHT
BEGIN:STANDARD
TZOFFSETFROM:+0200
TZOFFSETTO:+0100
TZNAME:CET
DTSTART:20201025T010000
END:STANDARD
END:VTIMEZONE
BEGIN:VEVENT
DTSTART;TZID=Europe/Madrid:20190612T213000
DTEND;TZID=Europe/Madrid:20190612T223000
DTSTAMP:20260421T174207
CREATED:20190519T153024Z
LAST-MODIFIED:20190519T153024Z
UID:723-1560375000-1560378600@www.hermandaddesangonzalo.es
SUMMARY:Exaltación Eucaristica
DESCRIPTION:El próximo miércoles 12\, tras la eucaristía de 21:00 horas\, tendrá ligar en la Parroquia de San Gonzalo\, la Exaltación Eucarística que en el presente año 2019 estará a cargo de Don Eduardo del Rey Tirado\, Hermano Mayor de la Hermandad de Archicofradía Pontífica y Real de Nuestro Padre Jesús Nazareno\, Santa Cruz en Jerusalén y María Santísima de la Concepción\, El Silencio\, y pregonero dela Semana Santa de Sevilla en 1999. \n  \n 
URL:https://www.hermandaddesangonzalo.es/evento/2019_exaltacion-eucaristica/
CATEGORIES:Convocatorias
ATTACH;FMTTYPE=image/jpeg:https://www.hermandaddesangonzalo.es/wp-content/uploads/2019/05/2018_procesion_euca_mini.jpg
END:VEVENT
BEGIN:VEVENT
DTSTART;TZID=Europe/Madrid:20190613T203000
DTEND;TZID=Europe/Madrid:20190615T210000
DTSTAMP:20260421T174207
CREATED:20190519T155034Z
LAST-MODIFIED:20190519T160645Z
UID:729-1560457800-1560632400@www.hermandaddesangonzalo.es
SUMMARY:Triduo eucaristico
DESCRIPTION:Triduo en Honor a Jesús Sacramentado\, en el presenta año la palabra estará a cargo de Don Alberto Talavera San Román\, Vicario Parroquial de Nuestra Señora de Belén de Gines. \nA las 20:30h. rezo del Santo Rosario. La Eucaristía dará comienzo a las 21:00 horas en la Parroquia de San Gonzalo \n 
URL:https://www.hermandaddesangonzalo.es/evento/2019_triduo-eucaristico/
CATEGORIES:Convocatorias
ATTACH;FMTTYPE=image/png:https://www.hermandaddesangonzalo.es/wp-content/uploads/2019/04/escudo_square_web_1-e1555778429364.png
END:VEVENT
BEGIN:VEVENT
DTSTART;TZID=Europe/Madrid:20190616T090000
DTEND;TZID=Europe/Madrid:20190616T233000
DTSTAMP:20260421T174207
CREATED:20190519T161648Z
LAST-MODIFIED:20190519T161909Z
UID:733-1560675600-1560727800@www.hermandaddesangonzalo.es
SUMMARY:Función Solemne y Procesión Eucaristica
DESCRIPTION:El domingo día 19 de junio\, se celebrará la Función Solemne y posterior Procesión Eucarística por las calles de la feligresia\, son de participarán aquellos pequeños que en el presente año han hecho su primera comunión y quieran participar en la misma. \nEl Itinerario será el siguiente: \nPlaza de San Gonzalo\, Nuestra Señora de la Salud\, Giralda\, Plaza de San Martín de Porres\, López de Gómara\, Lucas Cortés\, Plaza Cerámicas Mensaque\, Morevelli de Puebla\, Lorenzo Leal\, Alvar Núñez\, Francisco Collantes de Terán\, Padre Maruri\, Ángel Solans\, José León Sanz\, Giralda\, Cristo del Soberano Poder\, Clavel\, Plaza de San Gonzalo \n  \n 
URL:https://www.hermandaddesangonzalo.es/evento/2019_funcion-solemne-y-procesion-eucaristica/
CATEGORIES:Convocatorias
ATTACH;FMTTYPE=image/jpeg:https://www.hermandaddesangonzalo.es/wp-content/uploads/2019/05/2018_procesion_euca_mini.jpg
END:VEVENT
BEGIN:VEVENT
DTSTART;TZID=Europe/Madrid:20190620T084500
DTEND;TZID=Europe/Madrid:20190620T110000
DTSTAMP:20260421T174207
CREATED:20190519T162312Z
LAST-MODIFIED:20190519T162312Z
UID:735-1561020300-1561028400@www.hermandaddesangonzalo.es
SUMMARY:Corpus Christi
DESCRIPTION:Participación de Nuestra Hermandad en el Corpus Christi. \nSe cita en al patio de Los Naranjos de la Catedral de Sevilla a la hora indicada.
URL:https://www.hermandaddesangonzalo.es/evento/corpus-christi/
CATEGORIES:Convocatorias
END:VEVENT
BEGIN:VEVENT
DTSTART;TZID=Europe/Madrid:20190623T093000
DTEND;TZID=Europe/Madrid:20190623T120000
DTSTAMP:20260421T174207
CREATED:20190519T162603Z
LAST-MODIFIED:20190519T164005Z
UID:737-1561282200-1561291200@www.hermandaddesangonzalo.es
SUMMARY:Procesión Eucarística de la Hermandad de la Esperanza de Triana\, Corpus Chico
DESCRIPTION:Se cita a la hora indicada en la Parroquia de Santa Ana. \n 
URL:https://www.hermandaddesangonzalo.es/evento/procesion-eucaristica-de-la-hermandad-de-la-esperanza-de-triana-corpus-chico/
END:VEVENT
BEGIN:VEVENT
DTSTART;TZID=Europe/Madrid:20190627T103000
DTEND;TZID=Europe/Madrid:20190629T130000
DTSTAMP:20260421T174207
CREATED:20190519T164337Z
LAST-MODIFIED:20190519T164721Z
UID:742-1561631400-1561813200@www.hermandaddesangonzalo.es
SUMMARY:Jubileo Circular
DESCRIPTION:Durante 3 días tendremos el Jubileo Circular que organiza la Hermandad de Luz y Vela.
URL:https://www.hermandaddesangonzalo.es/evento/jubileo-de-las-40-horas/
CATEGORIES:Convocatorias
END:VEVENT
BEGIN:VEVENT
DTSTART;TZID=Europe/Madrid:20190627T183000
DTEND;TZID=Europe/Madrid:20190628T203000
DTSTAMP:20260421T174207
CREATED:20190519T164610Z
LAST-MODIFIED:20190519T164640Z
UID:744-1561660200-1561753800@www.hermandaddesangonzalo.es
SUMMARY:Jubileo Circular
DESCRIPTION:Durante 3 días tendremos el Jubileo Circular que organiza la Hermandad de Luz y Vela.
URL:https://www.hermandaddesangonzalo.es/evento/jubileo-circular/
CATEGORIES:Convocatorias
END:VEVENT
END:VCALENDAR