BEGIN:VCALENDAR
VERSION:2.0
PRODID:-//Hermandad de San Gonzalo - ECPv6.15.20//NONSGML v1.0//EN
CALSCALE:GREGORIAN
METHOD:PUBLISH
X-ORIGINAL-URL:https://www.hermandaddesangonzalo.es
X-WR-CALDESC:Eventos para Hermandad de San Gonzalo
REFRESH-INTERVAL;VALUE=DURATION:PT1H
X-Robots-Tag:noindex
X-PUBLISHED-TTL:PT1H
BEGIN:VTIMEZONE
TZID:Europe/Madrid
BEGIN:DAYLIGHT
TZOFFSETFROM:+0100
TZOFFSETTO:+0200
TZNAME:CEST
DTSTART:20180325T010000
END:DAYLIGHT
BEGIN:STANDARD
TZOFFSETFROM:+0200
TZOFFSETTO:+0100
TZNAME:CET
DTSTART:20181028T010000
END:STANDARD
BEGIN:DAYLIGHT
TZOFFSETFROM:+0100
TZOFFSETTO:+0200
TZNAME:CEST
DTSTART:20190331T010000
END:DAYLIGHT
BEGIN:STANDARD
TZOFFSETFROM:+0200
TZOFFSETTO:+0100
TZNAME:CET
DTSTART:20191027T010000
END:STANDARD
BEGIN:DAYLIGHT
TZOFFSETFROM:+0100
TZOFFSETTO:+0200
TZNAME:CEST
DTSTART:20200329T010000
END:DAYLIGHT
BEGIN:STANDARD
TZOFFSETFROM:+0200
TZOFFSETTO:+0100
TZNAME:CET
DTSTART:20201025T010000
END:STANDARD
END:VTIMEZONE
BEGIN:VEVENT
DTSTART;TZID=Europe/Madrid:20190531T180000
DTEND;TZID=Europe/Madrid:20190531T180000
DTSTAMP:20260421T101534
CREATED:20190430T103831Z
LAST-MODIFIED:20190430T104359Z
UID:688-1559325600-1559325600@www.hermandaddesangonzalo.es
SUMMARY:Cruz de la Juventud de San Gonzalo
DESCRIPTION:Salida por las calles del barrio de la Cruz de la Juventud de San Gonzalo. \nPendiente de ampliar la información
URL:https://www.hermandaddesangonzalo.es/evento/2019_cruz-de-la-juventud-de-san-gonzalo/
CATEGORIES:Convocatorias
ATTACH;FMTTYPE=image/png:https://www.hermandaddesangonzalo.es/wp-content/uploads/2019/04/cruz_para_agenda.png
END:VEVENT
BEGIN:VEVENT
DTSTART;TZID=Europe/Madrid:20190530T193000
DTEND;TZID=Europe/Madrid:20190530T193000
DTSTAMP:20260421T101534
CREATED:20190524T161906Z
LAST-MODIFIED:20190524T161906Z
UID:749-1559244600-1559244600@www.hermandaddesangonzalo.es
SUMMARY:Reunión de acólitos para nuevos aspirantes
DESCRIPTION:Todos aquellos Hermanos que deseen incorporarse a este grupo podrán acudir a la reunión mostrando su interés al Diputado Mayor de Cultos y Formación.
URL:https://www.hermandaddesangonzalo.es/evento/reunion-de-acolitos-para-nuevos-aspirantes/
LOCATION:Casa de Hermandad de San Gonzalo\, Av. de Coria 13\, Sevilla\, Sevilla\, 41010\, Spain
CATEGORIES:Convocatorias
END:VEVENT
BEGIN:VEVENT
DTSTART;TZID=Europe/Madrid:20190525T170000
DTEND;TZID=Europe/Madrid:20190525T230000
DTSTAMP:20260421T101534
CREATED:20190430T103642Z
LAST-MODIFIED:20190501T163435Z
UID:685-1558803600-1558825200@www.hermandaddesangonzalo.es
SUMMARY:Segundo ensayo para la Cruz de la Juventud de San Gonzalo
DESCRIPTION:Segundo ensayo para la Cruz. \nPendiente de ampliar la información
URL:https://www.hermandaddesangonzalo.es/evento/2019-segundo-ensayo-cruz/
CATEGORIES:Convocatorias
ATTACH;FMTTYPE=image/png:https://www.hermandaddesangonzalo.es/wp-content/uploads/2019/04/cruz_para_agenda.png
END:VEVENT
BEGIN:VEVENT
DTSTART;TZID=Europe/Madrid:20190517T170000
DTEND;TZID=Europe/Madrid:20190517T210000
DTSTAMP:20260421T101534
CREATED:20190430T103235Z
LAST-MODIFIED:20190501T161353Z
UID:682-1558112400-1558126800@www.hermandaddesangonzalo.es
SUMMARY:Iguala y primer ensayo para la Cruz de la Juventud de San Gonzalo
DESCRIPTION:Se convoca Iguala y primer ensayo para la Cruz de la Juventud de San Gonzalo. \nSe cita a las 17:00 horas en la Casa de Hermandad
URL:https://www.hermandaddesangonzalo.es/evento/2019-iguala-cruz/
CATEGORIES:Convocatorias
ATTACH;FMTTYPE=image/png:https://www.hermandaddesangonzalo.es/wp-content/uploads/2019/04/cruz_para_agenda.png
END:VEVENT
BEGIN:VEVENT
DTSTART;TZID=Europe/Madrid:20190427T103000
DTEND;TZID=Europe/Madrid:20190427T103000
DTSTAMP:20260421T101534
CREATED:20190419T162607Z
LAST-MODIFIED:20190419T164029Z
UID:625-1556361000-1556361000@www.hermandaddesangonzalo.es
SUMMARY:VI encuentro de Jóvenes cofrades
DESCRIPTION:El próximo día 27 de abril\, a las 10:30 horas\, en la Capilla del Dos de Mayo\, de la Hermandad de Las Aguas y organizado por el Consejo General de Hermandades de Sevilla\, se celebrará el VI encuentro de Jóvenes Cofrades del Lunes Santo. El lema del encuentro es “La santidad es audacia\, es empujen evangelizador que deja una marca en el mundo”.
URL:https://www.hermandaddesangonzalo.es/evento/20190427_vi-encuentro-jjcc/
LOCATION:Capilla del Dos de mayo\, Calle Dos de mayo\, Sevilla\, Sevilla\, 41001\, Spain
CATEGORIES:Convivencias
ATTACH;FMTTYPE=image/jpeg:https://www.hermandaddesangonzalo.es/wp-content/uploads/2019/04/20190427_vi_encuentro_jovenes-e1555691254759.jpeg
END:VEVENT
BEGIN:VEVENT
DTSTART;TZID=Europe/Madrid:20190424T200000
DTEND;TZID=Europe/Madrid:20190424T200000
DTSTAMP:20260421T101534
CREATED:20190406T173932Z
LAST-MODIFIED:20190419T090842Z
UID:544-1556136000-1556136000@www.hermandaddesangonzalo.es
SUMMARY:Pascua de Resurrección
DESCRIPTION:El próximo miércoles 24 de abril\, tendrá lugar la celebración de la Pascua de Resurrección por las Hermandades del Lunes Santo. Nuestra Hermandad será la que acoja a las nueve Hermandades que en la tarde del Lunes Santo procesionamos por las calles de Sevilla. \nLa Santa Misa de Resurrección se celebrará en la Parroquia de San Gonzalo\, sede de nuestra Corporación. Asimismo en dicha Eucaristía tendrá lugar la segunda entrega del ejercicio de la Acción Social conjunta de las Hermandades del Lunes Santo\, obra social conjunta consolidada plenamente desde hace más de dos décadas. \nInvitamos a todos los Hermanos de las Hermandades Hermanas a la asistencia a dicho acto.
URL:https://www.hermandaddesangonzalo.es/evento/pascua-resurreccion-2019/
LOCATION:Parroquia de San Gonzalo
CATEGORIES:Convivencias,Cultos
ATTACH;FMTTYPE=image/png:https://www.hermandaddesangonzalo.es/wp-content/uploads/2019/04/Logo-Lunes-Santo-pq.png
END:VEVENT
BEGIN:VEVENT
DTSTART;TZID=Europe/Madrid:20190415T093000
DTEND;TZID=Europe/Madrid:20190415T093000
DTSTAMP:20260421T101534
CREATED:20190406T175112Z
LAST-MODIFIED:20190406T175112Z
UID:548-1555320600-1555320600@www.hermandaddesangonzalo.es
SUMMARY:Misa preparatoria de la Estación de Penitencia
DESCRIPTION:
URL:https://www.hermandaddesangonzalo.es/evento/misa-preparatoria-de-la-estacion-de-penitencia/
CATEGORIES:Cultos
ATTACH;FMTTYPE=image/png:https://www.hermandaddesangonzalo.es/wp-content/uploads/2019/03/web_esc_of-e1554658540980.png
END:VEVENT
BEGIN:VEVENT
DTSTART;TZID=Europe/Madrid:20190409T210000
DTEND;TZID=Europe/Madrid:20190409T210000
DTSTAMP:20260421T101534
CREATED:20190406T153800Z
LAST-MODIFIED:20190406T153800Z
UID:522-1554843600-1554843600@www.hermandaddesangonzalo.es
SUMMARY:Entronización de Nuestro Padre Jesús en Su Soberano Poder en su paso
DESCRIPTION:
URL:https://www.hermandaddesangonzalo.es/evento/entronizacion-paso-2019/
LOCATION:Parroquia de San Gonzalo
CATEGORIES:Convivencias,Cultos
END:VEVENT
BEGIN:VEVENT
DTSTART;TZID=Europe/Madrid:20190407T130000
DTEND;TZID=Europe/Madrid:20190407T140000
DTSTAMP:20260421T101534
CREATED:20190327T164755Z
LAST-MODIFIED:20190327T164755Z
UID:418-1554642000-1554645600@www.hermandaddesangonzalo.es
SUMMARY:Misa de Hermandad
DESCRIPTION:
URL:https://www.hermandaddesangonzalo.es/evento/misa-de-hermandad-2/
LOCATION:Parroquia de San Gonzalo
END:VEVENT
BEGIN:VEVENT
DTSTART;TZID=Europe/Madrid:20190405T210000
DTEND;TZID=Europe/Madrid:20190405T210000
DTSTAMP:20260421T101534
CREATED:20190329T172955Z
LAST-MODIFIED:20190329T172955Z
UID:449-1554498000-1554498000@www.hermandaddesangonzalo.es
SUMMARY:Pregón de la Juventud
DESCRIPTION:
URL:https://www.hermandaddesangonzalo.es/evento/pregon-de-la-juventud/
LOCATION:Parroquia de San Gonzalo
END:VEVENT
BEGIN:VEVENT
DTSTART;TZID=Europe/Madrid:20190405T203000
DTEND;TZID=Europe/Madrid:20190405T203000
DTSTAMP:20260421T101534
CREATED:20190327T165257Z
LAST-MODIFIED:20190327T165257Z
UID:422-1554496200-1554496200@www.hermandaddesangonzalo.es
SUMMARY:Vía Crucis
DESCRIPTION:El mismo se desarrolla por el interior de las naves del templo tras la finalización de la Eucaristía vespertina.
URL:https://www.hermandaddesangonzalo.es/evento/via-crucis-2/
END:VEVENT
BEGIN:VEVENT
DTSTART;TZID=Europe/Madrid:20190401T203000
DTEND;TZID=Europe/Madrid:20190404T223000
DTSTAMP:20260421T101534
CREATED:20190322T190728Z
LAST-MODIFIED:20190322T190728Z
UID:359-1554150600-1554417000@www.hermandaddesangonzalo.es
SUMMARY:Reparto de papeletas de sitio
DESCRIPTION:
URL:https://www.hermandaddesangonzalo.es/evento/reparto-de-papeletas-de-sitio-2/
LOCATION:Casa de Hermandad\, Av. de Coria 13\, Sevilla
END:VEVENT
BEGIN:VEVENT
DTSTART;TZID=Europe/Madrid:20190331T130000
DTEND;TZID=Europe/Madrid:20190331T140000
DTSTAMP:20260421T101534
CREATED:20190327T164534Z
LAST-MODIFIED:20190327T164534Z
UID:416-1554037200-1554040800@www.hermandaddesangonzalo.es
SUMMARY:Misa de Hermandad
DESCRIPTION:
URL:https://www.hermandaddesangonzalo.es/evento/misa-de-hermandad/
LOCATION:Parroquia de San Gonzalo
END:VEVENT
BEGIN:VEVENT
DTSTART;TZID=Europe/Madrid:20190331T103000
DTEND;TZID=Europe/Madrid:20190331T153000
DTSTAMP:20260421T101534
CREATED:20190322T190616Z
LAST-MODIFIED:20190322T190616Z
UID:357-1554028200-1554046200@www.hermandaddesangonzalo.es
SUMMARY:Ensayo de costaleros
DESCRIPTION:
URL:https://www.hermandaddesangonzalo.es/evento/ensayo-de-costaleros-2/
END:VEVENT
BEGIN:VEVENT
DTSTART;TZID=Europe/Madrid:20190329T203000
DTEND;TZID=Europe/Madrid:20190329T203000
DTSTAMP:20260421T101534
CREATED:20190327T165147Z
LAST-MODIFIED:20190327T165147Z
UID:420-1553891400-1553891400@www.hermandaddesangonzalo.es
SUMMARY:Vía Crucis
DESCRIPTION:El mismo se desarrolla por el interior de las naves del templo tras la finalización de la Eucaristía vespertina.
URL:https://www.hermandaddesangonzalo.es/evento/via-crucis/
LOCATION:Parroquia de San Gonzalo
END:VEVENT
BEGIN:VEVENT
DTSTART;TZID=Europe/Madrid:20190325T203000
DTEND;TZID=Europe/Madrid:20190328T223000
DTSTAMP:20260421T101534
CREATED:20190322T190318Z
LAST-MODIFIED:20190322T190318Z
UID:355-1553545800-1553812200@www.hermandaddesangonzalo.es
SUMMARY:Reparto de papeletas de sitio
DESCRIPTION:
URL:https://www.hermandaddesangonzalo.es/evento/reparto-de-papeletas-de-sitio/
END:VEVENT
BEGIN:VEVENT
DTSTART;TZID=Europe/Madrid:20190323T160000
DTEND;TZID=Europe/Madrid:20190323T213000
DTSTAMP:20260421T101534
CREATED:20190322T185912Z
LAST-MODIFIED:20190322T190148Z
UID:352-1553356800-1553376600@www.hermandaddesangonzalo.es
SUMMARY:Ensayo de costaleros
DESCRIPTION:
URL:https://www.hermandaddesangonzalo.es/evento/ensayo-de-costaleros/
LOCATION:Casa de Hermandad\, Av. de Coria 13\, Sevilla
END:VEVENT
END:VCALENDAR