BEGIN:VCALENDAR
VERSION:2.0
PRODID:-//Hermandad de San Gonzalo - ECPv6.15.20//NONSGML v1.0//EN
CALSCALE:GREGORIAN
METHOD:PUBLISH
X-WR-CALNAME:Hermandad de San Gonzalo
X-ORIGINAL-URL:https://www.hermandaddesangonzalo.es
X-WR-CALDESC:Eventos para Hermandad de San Gonzalo
REFRESH-INTERVAL;VALUE=DURATION:PT1H
X-Robots-Tag:noindex
X-PUBLISHED-TTL:PT1H
BEGIN:VTIMEZONE
TZID:Europe/Madrid
BEGIN:DAYLIGHT
TZOFFSETFROM:+0100
TZOFFSETTO:+0200
TZNAME:CEST
DTSTART:20180325T010000
END:DAYLIGHT
BEGIN:STANDARD
TZOFFSETFROM:+0200
TZOFFSETTO:+0100
TZNAME:CET
DTSTART:20181028T010000
END:STANDARD
BEGIN:DAYLIGHT
TZOFFSETFROM:+0100
TZOFFSETTO:+0200
TZNAME:CEST
DTSTART:20190331T010000
END:DAYLIGHT
BEGIN:STANDARD
TZOFFSETFROM:+0200
TZOFFSETTO:+0100
TZNAME:CET
DTSTART:20191027T010000
END:STANDARD
BEGIN:DAYLIGHT
TZOFFSETFROM:+0100
TZOFFSETTO:+0200
TZNAME:CEST
DTSTART:20200329T010000
END:DAYLIGHT
BEGIN:STANDARD
TZOFFSETFROM:+0200
TZOFFSETTO:+0100
TZNAME:CET
DTSTART:20201025T010000
END:STANDARD
BEGIN:DAYLIGHT
TZOFFSETFROM:+0100
TZOFFSETTO:+0200
TZNAME:CEST
DTSTART:20210328T010000
END:DAYLIGHT
BEGIN:STANDARD
TZOFFSETFROM:+0200
TZOFFSETTO:+0100
TZNAME:CET
DTSTART:20211031T010000
END:STANDARD
BEGIN:DAYLIGHT
TZOFFSETFROM:+0100
TZOFFSETTO:+0200
TZNAME:CEST
DTSTART:20220327T010000
END:DAYLIGHT
BEGIN:STANDARD
TZOFFSETFROM:+0200
TZOFFSETTO:+0100
TZNAME:CET
DTSTART:20221030T010000
END:STANDARD
BEGIN:DAYLIGHT
TZOFFSETFROM:+0100
TZOFFSETTO:+0200
TZNAME:CEST
DTSTART:20230326T010000
END:DAYLIGHT
BEGIN:STANDARD
TZOFFSETFROM:+0200
TZOFFSETTO:+0100
TZNAME:CET
DTSTART:20231029T010000
END:STANDARD
BEGIN:DAYLIGHT
TZOFFSETFROM:+0100
TZOFFSETTO:+0200
TZNAME:CEST
DTSTART:20240331T010000
END:DAYLIGHT
BEGIN:STANDARD
TZOFFSETFROM:+0200
TZOFFSETTO:+0100
TZNAME:CET
DTSTART:20241027T010000
END:STANDARD
END:VTIMEZONE
BEGIN:VEVENT
DTSTART;TZID=Europe/Madrid:20190627T103000
DTEND;TZID=Europe/Madrid:20190629T130000
DTSTAMP:20260421T205559
CREATED:20190519T164337Z
LAST-MODIFIED:20190519T164721Z
UID:742-1561631400-1561813200@www.hermandaddesangonzalo.es
SUMMARY:Jubileo Circular
DESCRIPTION:Durante 3 días tendremos el Jubileo Circular que organiza la Hermandad de Luz y Vela.
URL:https://www.hermandaddesangonzalo.es/evento/jubileo-de-las-40-horas/
CATEGORIES:Convocatorias
END:VEVENT
BEGIN:VEVENT
DTSTART;TZID=Europe/Madrid:20190717T213000
DTEND;TZID=Europe/Madrid:20190717T233000
DTSTAMP:20260421T205559
CREATED:20190705T205800Z
LAST-MODIFIED:20190705T205800Z
UID:864-1563399000-1563406200@www.hermandaddesangonzalo.es
SUMMARY:Cabildo General Extraordinario
DESCRIPTION:Por orden del Señor Hermano Mayor\, y de acuerdo a las Reglas 16 y 33 a 35 de las vigentes de nuestra Hermandad\, se convoca Cabildo General Extraordinario de Hermanos\, en la Parroquia de San Gonzalo\, calle Nuestra Señora de la Salud s/n\, el próximo día 17 de julio de 2019 a las 21:30 horas en primera  convocatoria y a las 22:00 horas en segunda y última\, con el siguiente \nORDEN DEL DÍA \n\nPreces de rigor\nEstado de conservación de la imagen de Nuestro Padre Jesús en Su Soberano Poder y aprobación\, si procede\, de la intervención sobre la misma\nPropuesta\, y aprobación si procede\, de la mejora y remozamiento del altar de Nuestros Sagradas Titulares\nInformación sobre el Proyecto social “Salud y Vida”\nInformación sobre el proceso de regularización de cuotas de Hermanos
URL:https://www.hermandaddesangonzalo.es/evento/cabildo-general-extraordinario/
CATEGORIES:Convocatorias
END:VEVENT
BEGIN:VEVENT
DTSTART;TZID=Europe/Madrid:20190825T090000
DTEND;TZID=Europe/Madrid:20190825T210000
DTSTAMP:20260421T205559
CREATED:20190809T092105Z
LAST-MODIFIED:20190809T092124Z
UID:881-1566723600-1566766800@www.hermandaddesangonzalo.es
SUMMARY:Misa Solemne y besamanos con motivo de la celebración de la festividad de la Virgen de la Salud
DESCRIPTION:Misa Solemne en honor a Nuestra Señora de la Salud a las 12:00 hs y besamanos con motivo de la celebración de su festividad de 9:00 a 14:00 hs y de 17:00  a 21:00 hs\, excepto horario de celebración de la Eucaristía. \nFoto de Cabecera.- José Enrique Romero \nFoto texto.- Rechi \n 
URL:https://www.hermandaddesangonzalo.es/evento/20180824-misa-solemne-besamanos/
CATEGORIES:Convocatorias,Cultos
ATTACH;FMTTYPE=image/jpeg:https://www.hermandaddesangonzalo.es/wp-content/uploads/2019/08/besa_je_1.jpg
END:VEVENT
BEGIN:VEVENT
DTSTART;TZID=Europe/Madrid:20191010T203000
DTEND;TZID=Europe/Madrid:20191012T220000
DTSTAMP:20260421T205559
CREATED:20190913T212050Z
LAST-MODIFIED:20190914T174601Z
UID:923-1570739400-1570917600@www.hermandaddesangonzalo.es
SUMMARY:Triduo en honor a Nuestra Señora de la Salud Coronada
DESCRIPTION:El triduo se celebrará los días 10\, 11 y 12\, dando comienzo a las 20:00 hs. con el rezo del Santo Rosario y a las 20:30 hs\, ejercicio del triduo. \nOcupará la Sagrada Catedra el Rvdo. P.D.Ignacio Jiménez Sanchez-Dalp\, Parroco de Santa María de las Flores y San Eugenio Papa.
URL:https://www.hermandaddesangonzalo.es/evento/2019_triduo_salud/
CATEGORIES:Convocatorias,Cultos
END:VEVENT
BEGIN:VEVENT
DTSTART;TZID=Europe/Madrid:20191013T130000
DTEND;TZID=Europe/Madrid:20191013T140000
DTSTAMP:20260421T205559
CREATED:20190914T175036Z
LAST-MODIFIED:20190914T175522Z
UID:930-1570971600-1570975200@www.hermandaddesangonzalo.es
SUMMARY:Función Solemne en honor a Nuestra Señora de la Salud Coronada
DESCRIPTION:El domingo 13 de octubre de 2019 a las 13:00 horas Función Solemne\n			\n				\n				\n				\n				\n				\n			\n				\n				\n				\n				\n				Fotografía.- José Enrique Romero
URL:https://www.hermandaddesangonzalo.es/evento/2019-funcion-solemne/
CATEGORIES:Convocatorias,Cultos
END:VEVENT
BEGIN:VEVENT
DTSTART;TZID=Europe/Madrid:20191014T200000
DTEND;TZID=Europe/Madrid:20191014T220000
DTSTAMP:20260421T205559
CREATED:20190914T180408Z
LAST-MODIFIED:20190914T180408Z
UID:934-1571083200-1571090400@www.hermandaddesangonzalo.es
SUMMARY:II aniversario de la Coronación Canónica de Nuestra Señora de la Salud
DESCRIPTION:Misa Solemne en conmemoración del II Aniversario de la Coronación Canónica de Nuestra Señora De La Salud. Ocupando la Sagrada Cátedra el Rvdo. P. D. Marcelino Manzano Vilches\, Delegado Diocesano de Hermandades y Cofradías y Director Espiritual del Seminario Metropolitano
URL:https://www.hermandaddesangonzalo.es/evento/2019-ii-aniversario/
CATEGORIES:Convocatorias,Cultos
END:VEVENT
BEGIN:VEVENT
DTSTART;TZID=Europe/Madrid:20191015T210000
DTEND;TZID=Europe/Madrid:20191015T223000
DTSTAMP:20260421T205559
CREATED:20191009T163924Z
LAST-MODIFIED:20191009T165610Z
UID:964-1571173200-1571178600@www.hermandaddesangonzalo.es
SUMMARY:Tercera Sesión del XIV Ciclo de Formación de las Hermandades de Triana – Los Remedios
DESCRIPTION:Ponencia \n“Hacia una conversión ecológica” \nPonente Don Ángel Acosta Romero \n 
URL:https://www.hermandaddesangonzalo.es/evento/2019_xiv_formacion_3/
LOCATION:Parroquia de La O\, CL Castilla 30\, Sevilla\, Spain
CATEGORIES:Convocatorias
END:VEVENT
BEGIN:VEVENT
DTSTART;TZID=Europe/Madrid:20191019T090000
DTEND;TZID=Europe/Madrid:20191020T210000
DTSTAMP:20260421T205559
CREATED:20190914T181112Z
LAST-MODIFIED:20190914T181112Z
UID:937-1571475600-1571605200@www.hermandaddesangonzalo.es
SUMMARY:Besamanos a Nuestra Señora de la Salud
DESCRIPTION:El Horario de apertura será de 09:00 a 14:00 y de 17:00 a 21:00\nSalvo horario de celebración de la Eucaristía.
URL:https://www.hermandaddesangonzalo.es/evento/2019-besamanos/
CATEGORIES:Convocatorias,Cultos
END:VEVENT
BEGIN:VEVENT
DTSTART;TZID=Europe/Madrid:20191022T210000
DTEND;TZID=Europe/Madrid:20191022T223000
DTSTAMP:20260421T205559
CREATED:20191009T164209Z
LAST-MODIFIED:20191009T165810Z
UID:967-1571778000-1571783400@www.hermandaddesangonzalo.es
SUMMARY:Cuarta Sesión del XIV Ciclo de Formación de las Hermandades de Triana – Los Remedios
DESCRIPTION:Ponencia \n“Nicaragua siempre con los necesitados” \nDª. Beatriz Melguizo Hernando y Dª. Ana González Mauri
URL:https://www.hermandaddesangonzalo.es/evento/2019-formacion-4/
LOCATION:Parroquia de N.S. del Buen Aire\, Virgen de Fatima\, Sevilla\, Spain
CATEGORIES:Convocatorias
END:VEVENT
BEGIN:VEVENT
DTSTART;TZID=Europe/Madrid:20191029T210000
DTEND;TZID=Europe/Madrid:20191029T223000
DTSTAMP:20260421T205559
CREATED:20191009T164520Z
LAST-MODIFIED:20191009T165944Z
UID:970-1572382800-1572388200@www.hermandaddesangonzalo.es
SUMMARY:Quinta Sesión del XIV Ciclo de Formación de las Hermandades de Triana – Los Remedios
DESCRIPTION:Ponencia \n“Los cristianos y la política” \nD. Carlos Colón Perales.
URL:https://www.hermandaddesangonzalo.es/evento/quinta-sesion-del-xiv-ciclo-de-formacion-de-las-hermandades-de-triana-los-remedios/
LOCATION:Basilica del Stmo. Cristo de la Expiración\, CL Castilla 62\, Sevilla\, Spain
CATEGORIES:Convocatorias
END:VEVENT
BEGIN:VEVENT
DTSTART;TZID=Europe/Madrid:20191104T203000
DTEND;TZID=Europe/Madrid:20191104T203000
DTSTAMP:20260421T205559
CREATED:20191001T193704Z
LAST-MODIFIED:20191001T195244Z
UID:953-1572899400-1572899400@www.hermandaddesangonzalo.es
SUMMARY:Misa de difuntos
DESCRIPTION:MISA DE DIFUNTOS\nComo marcan nuestra Reglas\, regla 87 de las vigentes de nuestra Hermandad\, se celebrará el próximo lunes día 4 de noviembre misa de honras fúnebres en sufragio de todos nuestros Hermanos difuntos.
URL:https://www.hermandaddesangonzalo.es/evento/misa-de-difuntos/
CATEGORIES:Convocatorias,Cultos
ATTACH;FMTTYPE=image/png:https://www.hermandaddesangonzalo.es/wp-content/uploads/2019/04/escudo_square_web_1-e1555778429364.png
END:VEVENT
BEGIN:VEVENT
DTSTART;TZID=Europe/Madrid:20191227T200000
DTEND;TZID=Europe/Madrid:20191227T210000
DTSTAMP:20260421T205559
CREATED:20190914T182623Z
LAST-MODIFIED:20190914T182623Z
UID:940-1577476800-1577480400@www.hermandaddesangonzalo.es
SUMMARY:Misa Solemne en honor a San Juan Evangelista
DESCRIPTION:
URL:https://www.hermandaddesangonzalo.es/evento/misa-solemne-en-honor-a-san-juan-evangelista/
CATEGORIES:Convocatorias,Cultos
END:VEVENT
BEGIN:VEVENT
DTSTART;TZID=Europe/Madrid:20200307T080000
DTEND;TZID=Europe/Madrid:20200307T170000
DTSTAMP:20260421T205559
CREATED:20200307T235757Z
LAST-MODIFIED:20200308T000104Z
UID:1204-1583568000-1583600400@www.hermandaddesangonzalo.es
SUMMARY:Devoto Besapiés en Honor a Ntro. Padre Jesús en Su Soberano Poder ante Caifás
DESCRIPTION:Devoto Besapiés en honor a Ntro. Padre Jesús en Su Soberano Poder ante Caifás \nHorario de 09:00 a 14:00 horas y de 17:00 a 21:00 horas\, excepto horario de misas
URL:https://www.hermandaddesangonzalo.es/evento/1204/
END:VEVENT
BEGIN:VEVENT
DTSTART;TZID=Europe/Madrid:20200308T080000
DTEND;TZID=Europe/Madrid:20200308T170000
DTSTAMP:20260421T205559
CREATED:20200307T235231Z
LAST-MODIFIED:20200307T235231Z
UID:1200-1583654400-1583686800@www.hermandaddesangonzalo.es
SUMMARY:Devoto Besapies en honor a Ntro. Padre Jesús en Su Soberano Poder ante Caifás
DESCRIPTION:Devoto Besapies de Ntro. Padre Jesus en Su Soberano Poder ante Caifás. \nHorario de 09:00 a 14:00 horas y de 17:00 a 21:00 horas\, excepto horario de misas
URL:https://www.hermandaddesangonzalo.es/evento/devoto-besapies-en-honor-a-ntro-padre-jesus-en-su-soberano-poder-ante-caifas/
END:VEVENT
BEGIN:VEVENT
DTSTART;TZID=Europe/Madrid:20200310T080000
DTEND;TZID=Europe/Madrid:20200310T170000
DTSTAMP:20260421T205559
CREATED:20200308T000411Z
LAST-MODIFIED:20200308T000925Z
UID:1208-1583827200-1583859600@www.hermandaddesangonzalo.es
SUMMARY:Papeletas de Sitio. Primer Dia
DESCRIPTION:Comienzo de los dias de Reparto de Papeletas de Sitio para la Estación de Penitencia a la SMI Catedral de Sevilla\, el próximo Lunes 06 de abril de 2020. \nReparto de números de orden de atención: 19:30 horas \nComienzo de atención: 20:00 horas \n 
URL:https://www.hermandaddesangonzalo.es/evento/papeletas-de-sitio-primer-dia/
END:VEVENT
BEGIN:VEVENT
DTSTART;TZID=Europe/Madrid:20200311T080000
DTEND;TZID=Europe/Madrid:20200311T170000
DTSTAMP:20260421T205559
CREATED:20200308T000604Z
LAST-MODIFIED:20200308T001113Z
UID:1210-1583913600-1583946000@www.hermandaddesangonzalo.es
SUMMARY:Papeletas de Sitio. Segundo dia
DESCRIPTION:Comienzo de los dias de Reparto de Papeletas de Sitio para la Estación de Penitencia a la SMI Catedral de Sevilla\, el próximo Lunes 06 de abril de 2020. \nReparto de números de orden de atención: 19:30 horas \nComienzo de atención: 20:00 horas
URL:https://www.hermandaddesangonzalo.es/evento/papeletas-de-sitio-segundo-dia/
END:VEVENT
BEGIN:VEVENT
DTSTART;TZID=Europe/Madrid:20200311T140000
DTEND;TZID=Europe/Madrid:20200311T140000
DTSTAMP:20260421T205559
CREATED:20200308T002408Z
LAST-MODIFIED:20200308T002408Z
UID:1229-1583935200-1583935200@www.hermandaddesangonzalo.es
SUMMARY:Firma del Convenio de Colaboración. Proyecto Salud y Vida
DESCRIPTION:a las 14:00 horas\, en la Residencia de ntra. Sra. de la Consolación\, tendrá lugar la firma del convenio de colaboración con las Hermanas de Consolación para la puesta en marcha de la Obra Social de la Coronación con la casa de esta querida institución en Sevilla
URL:https://www.hermandaddesangonzalo.es/evento/firma-del-convenio-de-colaboracion-proyecto-salud-y-vida/
END:VEVENT
BEGIN:VEVENT
DTSTART;TZID=Europe/Madrid:20200312T080000
DTEND;TZID=Europe/Madrid:20200312T170000
DTSTAMP:20260421T205559
CREATED:20200308T000739Z
LAST-MODIFIED:20200308T000739Z
UID:1212-1584000000-1584032400@www.hermandaddesangonzalo.es
SUMMARY:Papeletas de Sitio. Tercer dia
DESCRIPTION:Comienzo de los dias de Reparto de Papeletas de Sitio para la Estación de Penitencia a la SMI Catedral de Sevilla\, el próximo Lunes 06 de abril de 2020. \nReparto de números de orden de atención: 19:30 horas \nComienzo de atención: 20:00 horas
URL:https://www.hermandaddesangonzalo.es/evento/papeletas-de-sitio-tercer-dia/
END:VEVENT
BEGIN:VEVENT
DTSTART;TZID=Europe/Madrid:20200317T080000
DTEND;TZID=Europe/Madrid:20200317T170000
DTSTAMP:20260421T205559
CREATED:20200308T001259Z
LAST-MODIFIED:20200308T001259Z
UID:1215-1584432000-1584464400@www.hermandaddesangonzalo.es
SUMMARY:Papeletas de Sitio. Cuarto día
DESCRIPTION:Comienzo de los dias de Reparto de Papeletas de Sitio para la Estación de Penitencia a la SMI Catedral de Sevilla\, el próximo Lunes 06 de abril de 2020. \nReparto de números de orden de atención: 19:30 horas \nComienzo de atención: 20:00 horas
URL:https://www.hermandaddesangonzalo.es/evento/papeletas-de-sitio-cuarto-dia/
END:VEVENT
BEGIN:VEVENT
DTSTART;TZID=Europe/Madrid:20200318T080000
DTEND;TZID=Europe/Madrid:20200318T170000
DTSTAMP:20260421T205559
CREATED:20200308T001347Z
LAST-MODIFIED:20200308T001347Z
UID:1217-1584518400-1584550800@www.hermandaddesangonzalo.es
SUMMARY:Papeletas de Sitio. Quinto día
DESCRIPTION:Comienzo de los dias de Reparto de Papeletas de Sitio para la Estación de Penitencia a la SMI Catedral de Sevilla\, el próximo Lunes 06 de abril de 2020. \nReparto de números de orden de atención: 19:30 horas \nComienzo de atención: 20:00 horas
URL:https://www.hermandaddesangonzalo.es/evento/papeletas-de-sitio-quinto-dia/
END:VEVENT
BEGIN:VEVENT
DTSTART;TZID=Europe/Madrid:20200319T080000
DTEND;TZID=Europe/Madrid:20200319T170000
DTSTAMP:20260421T205559
CREATED:20200308T001454Z
LAST-MODIFIED:20200308T001710Z
UID:1219-1584604800-1584637200@www.hermandaddesangonzalo.es
SUMMARY:Papeletas de sitio. Sexto día
DESCRIPTION:Comienzo de los dias de Reparto de Papeletas de Sitio para la Estación de Penitencia a la SMI Catedral de Sevilla\, el próximo Lunes 06 de abril de 2020. \nReparto de números de orden de atención: 19:30 horas \nComienzo de atención: 20:00 horas
URL:https://www.hermandaddesangonzalo.es/evento/papeletas-de-sitio-sexto-dia/
END:VEVENT
BEGIN:VEVENT
DTSTART;TZID=Europe/Madrid:20200324T080000
DTEND;TZID=Europe/Madrid:20200324T170000
DTSTAMP:20260421T205559
CREATED:20200308T001859Z
LAST-MODIFIED:20200308T001859Z
UID:1222-1585036800-1585069200@www.hermandaddesangonzalo.es
SUMMARY:Papeletas de sitio. Septimo día
DESCRIPTION:Comienzo de los dias de Reparto de Papeletas de Sitio para la Estación de Penitencia a la SMI Catedral de Sevilla\, el próximo Lunes 06 de abril de 2020. \nReparto de números de orden de atención: 19:30 horas \nComienzo de atención: 20:00 horas
URL:https://www.hermandaddesangonzalo.es/evento/papeletas-de-sitio-septimo-dia/
END:VEVENT
BEGIN:VEVENT
DTSTART;TZID=Europe/Madrid:20200325T080000
DTEND;TZID=Europe/Madrid:20200325T170000
DTSTAMP:20260421T205559
CREATED:20200308T001943Z
LAST-MODIFIED:20200308T001943Z
UID:1225-1585123200-1585155600@www.hermandaddesangonzalo.es
SUMMARY:Papeletas de Sitio. Octavo día
DESCRIPTION:Comienzo de los dias de Reparto de Papeletas de Sitio para la Estación de Penitencia a la SMI Catedral de Sevilla\, el próximo Lunes 06 de abril de 2020. \nReparto de números de orden de atención: 19:30 horas \nComienzo de atención: 20:00 horas
URL:https://www.hermandaddesangonzalo.es/evento/papeletas-de-sitio-octavo-dia/
END:VEVENT
BEGIN:VEVENT
DTSTART;TZID=Europe/Madrid:20200326T080000
DTEND;TZID=Europe/Madrid:20200326T170000
DTSTAMP:20260421T205559
CREATED:20200308T002037Z
LAST-MODIFIED:20200308T002037Z
UID:1227-1585209600-1585242000@www.hermandaddesangonzalo.es
SUMMARY:Papeletas de sitio. ULTIMO DIA
DESCRIPTION:Comienzo de los dias de Reparto de Papeletas de Sitio para la Estación de Penitencia a la SMI Catedral de Sevilla\, el próximo Lunes 06 de abril de 2020. \nReparto de números de orden de atención: 19:30 horas \nComienzo de atención: 20:00 horas
URL:https://www.hermandaddesangonzalo.es/evento/papeletas-de-sitio-ultimo-dia/
END:VEVENT
BEGIN:VEVENT
DTSTART;TZID=Europe/Madrid:20230627T190000
DTEND;TZID=Europe/Madrid:20230629T190000
DTSTAMP:20260421T205559
CREATED:20230615T132601Z
LAST-MODIFIED:20230615T132601Z
UID:3906-1687892400-1688065200@www.hermandaddesangonzalo.es
SUMMARY:Jubileo circular de las cuarenta horas
DESCRIPTION:Del martes 27 al jueves 29: Jubileo circular de las cuarenta horas.
URL:https://www.hermandaddesangonzalo.es/evento/jubileo-circular-de-las-cuarenta-horas/
LOCATION:Parroquia de San Gonzalo
CATEGORIES:Cultos
END:VEVENT
BEGIN:VEVENT
DTSTART;TZID=Europe/Madrid:20230827T120000
DTEND;TZID=Europe/Madrid:20230827T123000
DTSTAMP:20260421T205559
CREATED:20230615T132740Z
LAST-MODIFIED:20230615T132740Z
UID:3908-1693137600-1693139400@www.hermandaddesangonzalo.es
SUMMARY:Misa solemne en honor a Nuestra Señora de la Salud
DESCRIPTION:Misa solemne en honor a Nuestra Señora de la Salud a las 12 horas* y veneración con motivo de la celebración de su festividad de 9 a 14 horas y de 17 a 21:30 horas (salvo horarios de misas).
URL:https://www.hermandaddesangonzalo.es/evento/misa-solemne-en-honor-a-nuestra-senora-de-la-salud/
LOCATION:Parroquia de San Gonzalo
END:VEVENT
BEGIN:VEVENT
DTSTART;TZID=Europe/Madrid:20231012T193000
DTEND;TZID=Europe/Madrid:20231014T210000
DTSTAMP:20260421T205559
CREATED:20230615T132839Z
LAST-MODIFIED:20230615T132839Z
UID:3910-1697139000-1697317200@www.hermandaddesangonzalo.es
SUMMARY:Triduo a Nuestra Señora de la Salud
DESCRIPTION:Triduo a Nuestra Señora de la Salud. A las 19:30 horas\, rezo del santo rosario\, y a las 20:00 ejercicio del triduo y eucaristía. El segundo día se conmemorará el V aniversario de la coronación canónica.
URL:https://www.hermandaddesangonzalo.es/evento/triduo-a-nuestra-senora-de-la-salud/
LOCATION:Parroquia de San Gonzalo
END:VEVENT
BEGIN:VEVENT
DTSTART;TZID=Europe/Madrid:20231015T130000
DTEND;TZID=Europe/Madrid:20231015T133000
DTSTAMP:20260421T205559
CREATED:20230615T133045Z
LAST-MODIFIED:20230615T133045Z
UID:3912-1697374800-1697376600@www.hermandaddesangonzalo.es
SUMMARY:Función solemne a Nuestra Señora de la Salud
DESCRIPTION:Función solemne a Nuestra Señora de la Salud a las 13 horas.*
URL:https://www.hermandaddesangonzalo.es/evento/funcion-solemne-a-nuestra-senora-de-la-salud/
LOCATION:Parroquia de San Gonzalo
END:VEVENT
BEGIN:VEVENT
DTSTART;TZID=Europe/Madrid:20231021T090000
DTEND;TZID=Europe/Madrid:20231022T210000
DTSTAMP:20260421T205559
CREATED:20230615T133138Z
LAST-MODIFIED:20230615T133138Z
UID:3914-1697878800-1698008400@www.hermandaddesangonzalo.es
SUMMARY:Veneración a Nuestra Señora de la Salud
DESCRIPTION:Veneración a Nuestra Señora de la Salud\, por la mañana de 9 a 14 el primer día y de 13 a 14:30 el segundo\, y por la tarde de 17 a 21 horas ambas jornadas (salvo horarios de misas).
URL:https://www.hermandaddesangonzalo.es/evento/veneracion-a-nuestra-senora-de-la-salud/
LOCATION:Parroquia de San Gonzalo
END:VEVENT
BEGIN:VEVENT
DTSTART;TZID=Europe/Madrid:20231106T200000
DTEND;TZID=Europe/Madrid:20231106T210000
DTSTAMP:20260421T205559
CREATED:20230615T133219Z
LAST-MODIFIED:20230615T133219Z
UID:3916-1699300800-1699304400@www.hermandaddesangonzalo.es
SUMMARY:Misa por nuestros hermanos difuntos
DESCRIPTION:Misa por nuestros hermanos difuntos\, a las 20 horas.
URL:https://www.hermandaddesangonzalo.es/evento/misa-por-nuestros-hermanos-difuntos/
LOCATION:Parroquia de San Gonzalo
END:VEVENT
END:VCALENDAR