BEGIN:VCALENDAR
VERSION:2.0
PRODID:-//Hermandad de San Gonzalo - ECPv6.15.20//NONSGML v1.0//EN
CALSCALE:GREGORIAN
METHOD:PUBLISH
X-ORIGINAL-URL:https://www.hermandaddesangonzalo.es
X-WR-CALDESC:Eventos para Hermandad de San Gonzalo
REFRESH-INTERVAL;VALUE=DURATION:PT1H
X-Robots-Tag:noindex
X-PUBLISHED-TTL:PT1H
BEGIN:VTIMEZONE
TZID:Europe/Madrid
BEGIN:DAYLIGHT
TZOFFSETFROM:+0100
TZOFFSETTO:+0200
TZNAME:CEST
DTSTART:20220327T010000
END:DAYLIGHT
BEGIN:STANDARD
TZOFFSETFROM:+0200
TZOFFSETTO:+0100
TZNAME:CET
DTSTART:20221030T010000
END:STANDARD
BEGIN:DAYLIGHT
TZOFFSETFROM:+0100
TZOFFSETTO:+0200
TZNAME:CEST
DTSTART:20230326T010000
END:DAYLIGHT
BEGIN:STANDARD
TZOFFSETFROM:+0200
TZOFFSETTO:+0100
TZNAME:CET
DTSTART:20231029T010000
END:STANDARD
BEGIN:DAYLIGHT
TZOFFSETFROM:+0100
TZOFFSETTO:+0200
TZNAME:CEST
DTSTART:20240331T010000
END:DAYLIGHT
BEGIN:STANDARD
TZOFFSETFROM:+0200
TZOFFSETTO:+0100
TZNAME:CET
DTSTART:20241027T010000
END:STANDARD
END:VTIMEZONE
BEGIN:VEVENT
DTSTART;TZID=Europe/Madrid:20231208T120000
DTEND;TZID=Europe/Madrid:20231208T130000
DTSTAMP:20260421T205524
CREATED:20230615T133542Z
LAST-MODIFIED:20230615T133542Z
UID:3921-1702036800-1702040400@www.hermandaddesangonzalo.es
SUMMARY:Eucaristía en honor de la Inmaculada Concepción
DESCRIPTION:Eucaristía en honor de la Inmaculada Concepción\, a las 12 horas.
URL:https://www.hermandaddesangonzalo.es/evento/eucaristia-en-honor-de-la-inmaculada-concepcion/
LOCATION:Parroquia de San Gonzalo
END:VEVENT
END:VCALENDAR