BEGIN:VCALENDAR
VERSION:2.0
PRODID:-//Hermandad de San Gonzalo - ECPv6.15.20//NONSGML v1.0//EN
CALSCALE:GREGORIAN
METHOD:PUBLISH
X-ORIGINAL-URL:https://www.hermandaddesangonzalo.es
X-WR-CALDESC:Eventos para Hermandad de San Gonzalo
REFRESH-INTERVAL;VALUE=DURATION:PT1H
X-Robots-Tag:noindex
X-PUBLISHED-TTL:PT1H
BEGIN:VTIMEZONE
TZID:Europe/Madrid
BEGIN:DAYLIGHT
TZOFFSETFROM:+0100
TZOFFSETTO:+0200
TZNAME:CEST
DTSTART:20180325T010000
END:DAYLIGHT
BEGIN:STANDARD
TZOFFSETFROM:+0200
TZOFFSETTO:+0100
TZNAME:CET
DTSTART:20181028T010000
END:STANDARD
BEGIN:DAYLIGHT
TZOFFSETFROM:+0100
TZOFFSETTO:+0200
TZNAME:CEST
DTSTART:20190331T010000
END:DAYLIGHT
BEGIN:STANDARD
TZOFFSETFROM:+0200
TZOFFSETTO:+0100
TZNAME:CET
DTSTART:20191027T010000
END:STANDARD
BEGIN:DAYLIGHT
TZOFFSETFROM:+0100
TZOFFSETTO:+0200
TZNAME:CEST
DTSTART:20200329T010000
END:DAYLIGHT
BEGIN:STANDARD
TZOFFSETFROM:+0200
TZOFFSETTO:+0100
TZNAME:CET
DTSTART:20201025T010000
END:STANDARD
END:VTIMEZONE
BEGIN:VEVENT
DTSTART;TZID=Europe/Madrid:20190623T093000
DTEND;TZID=Europe/Madrid:20190623T120000
DTSTAMP:20260421T191408
CREATED:20190519T162603Z
LAST-MODIFIED:20190519T164005Z
UID:737-1561282200-1561291200@www.hermandaddesangonzalo.es
SUMMARY:Procesión Eucarística de la Hermandad de la Esperanza de Triana\, Corpus Chico
DESCRIPTION:Se cita a la hora indicada en la Parroquia de Santa Ana. \n 
URL:https://www.hermandaddesangonzalo.es/evento/procesion-eucaristica-de-la-hermandad-de-la-esperanza-de-triana-corpus-chico/
END:VEVENT
END:VCALENDAR