BEGIN:VCALENDAR
VERSION:2.0
PRODID:-//Hermandad de San Gonzalo - ECPv6.15.20//NONSGML v1.0//EN
CALSCALE:GREGORIAN
METHOD:PUBLISH
X-ORIGINAL-URL:https://www.hermandaddesangonzalo.es
X-WR-CALDESC:Eventos para Hermandad de San Gonzalo
REFRESH-INTERVAL;VALUE=DURATION:PT1H
X-Robots-Tag:noindex
X-PUBLISHED-TTL:PT1H
BEGIN:VTIMEZONE
TZID:Europe/Madrid
BEGIN:DAYLIGHT
TZOFFSETFROM:+0100
TZOFFSETTO:+0200
TZNAME:CEST
DTSTART:20180325T010000
END:DAYLIGHT
BEGIN:STANDARD
TZOFFSETFROM:+0200
TZOFFSETTO:+0100
TZNAME:CET
DTSTART:20181028T010000
END:STANDARD
BEGIN:DAYLIGHT
TZOFFSETFROM:+0100
TZOFFSETTO:+0200
TZNAME:CEST
DTSTART:20190331T010000
END:DAYLIGHT
BEGIN:STANDARD
TZOFFSETFROM:+0200
TZOFFSETTO:+0100
TZNAME:CET
DTSTART:20191027T010000
END:STANDARD
BEGIN:DAYLIGHT
TZOFFSETFROM:+0100
TZOFFSETTO:+0200
TZNAME:CEST
DTSTART:20200329T010000
END:DAYLIGHT
BEGIN:STANDARD
TZOFFSETFROM:+0200
TZOFFSETTO:+0100
TZNAME:CET
DTSTART:20201025T010000
END:STANDARD
END:VTIMEZONE
BEGIN:VEVENT
DTSTART;TZID=Europe/Madrid:20190612T213000
DTEND;TZID=Europe/Madrid:20190612T223000
DTSTAMP:20260421T191301
CREATED:20190519T153024Z
LAST-MODIFIED:20190519T153024Z
UID:723-1560375000-1560378600@www.hermandaddesangonzalo.es
SUMMARY:Exaltación Eucaristica
DESCRIPTION:El próximo miércoles 12\, tras la eucaristía de 21:00 horas\, tendrá ligar en la Parroquia de San Gonzalo\, la Exaltación Eucarística que en el presente año 2019 estará a cargo de Don Eduardo del Rey Tirado\, Hermano Mayor de la Hermandad de Archicofradía Pontífica y Real de Nuestro Padre Jesús Nazareno\, Santa Cruz en Jerusalén y María Santísima de la Concepción\, El Silencio\, y pregonero dela Semana Santa de Sevilla en 1999. \n  \n 
URL:https://www.hermandaddesangonzalo.es/evento/2019_exaltacion-eucaristica/
CATEGORIES:Convocatorias
ATTACH;FMTTYPE=image/jpeg:https://www.hermandaddesangonzalo.es/wp-content/uploads/2019/05/2018_procesion_euca_mini.jpg
END:VEVENT
END:VCALENDAR